0.00879794034090911
0.000000
0.000000
-0.00879794034090911
-109.462380149148
37.5694351196289
