0.0200000009928151
0.0
0.0
-0.0200000009928151
-169.148140930852
72.5822999091621
