0.002945156347765
0.000000000000000
0.000000000000000
-0.002248152820724
-131.9985306011
48.9988758204
