50.000000000000000
0.000000000000000
0.000000000000000
-50.000000000000000
-503463.4988959000
5338668.7117250003
