50.000000000000000
0.000000000000000
0.000000000000000
-50.000000000000000
-193637.0244177000
5321209.2722840002
