50.000000000000000
0.000000000000000
0.000000000000000
-50.000000000000000
-41401.5785235200
4874675.2335160002
