50.000000000000000
0.000000000000000
0.000000000000000
-50.000000000000000
131780.6639140000
4213053.0506630000
