50.000000000000000
0.000000000000000
0.000000000000000
-50.000000000000000
-46168.6547705300
3986357.9072870002
