50.000000000000000
0.000000000000000
0.000000000000000
-50.000000000000000
315666.5555149000
3999339.3939069998
