50.000000000000000
0.000000000000000
0.000000000000000
-50.000000000000000
138611.2800515000
3768970.0813259999
