50.000000000000000
0.000000000000000
0.000000000000000
-50.000000000000000
323454.9606594000
3777112.7951880000
