50.000000000000000
0.000000000000000
0.000000000000000
-50.000000000000000
-48219.4222554700
3542623.1372369998
