50.0000000000
0.0000000000
0.0000000000
-50.0000000000
-101087.6600000000
2907386.7500000000
