50.0000000000
0.0000000000
0.0000000000
-50.0000000000
-103354.9000000000
2687179.7400000002
